BEGIN:VCALENDAR
VERSION:2.0
PRODID:Imitheme.com 
BEGIN:VEVENT
UID:20260422T10194114969813
DTSTAMP;TZID=UTC:2026-04-22 10:19:41
DTSTART;TZID=America/Los_Angeles:20260422T101941
DTEND;TZID=America/Los_Angeles:20260422T101941
SUMMARY:Mitos e Lendas - Egípcios
LOCATION:
DESCRIPTION:Neste terceiro evento do ciclo ~ MITOS & LENDAS ~, mostrámos um pouco da beleza do antigo Egípto, através de rituais e danças dedicadas aos Deuses do submundo e aos do amor e fertilidade. Entrada livre _____ In this third event of the cycle ~ MYTHS & LEGENDS ~, we show a little of the beauty of ancient Egypt, through rituals and dances dedicated to the Gods of the underworld and those of love and fertility. Free entry   Fotos: https://www.facebook.com/
URL:https://pensaoamor.com/eventador/mitos-e-lendas-egipto/
END:VEVENT
END:VCALENDAR
