BEGIN:VCALENDAR
VERSION:2.0
PRODID:Imitheme.com 
BEGIN:VEVENT
UID:20260422T0902501533423226
DTSTAMP;TZID=UTC:2026-04-22 09:02:50
DTSTART;TZID=America/Los_Angeles:20260422T090250
DTEND;TZID=America/Los_Angeles:20260422T090250
SUMMARY:Loose Canon
LOCATION:
DESCRIPTION:Cooljazzduo produz um jazz ao estilo West Coast. Reinterpretam, de uma forma moderna, temas dos grandes compositores da canção americana tradicional: Irving Berlin, Cole Porter, Frank Churchil / Larry Morey, Jeremy Kern, Richard Rodgers, George Gershwin, canções compostas maioritariamente para os musicais da Broadway. Privilegiam a espontaneidade na improvisação, a melodia nos solos e a interacção entre os músicos nas suas actuacões.
URL:https://pensaoamor.com/eventador/loose-canon/
END:VEVENT
END:VCALENDAR
