BEGIN:VCALENDAR
VERSION:2.0
PRODID:Imitheme.com 
BEGIN:VEVENT
UID:20260422T090205957797408
DTSTAMP;TZID=UTC:2026-04-22 09:02:05
DTSTART;TZID=America/Los_Angeles:20260422T090205
DTEND;TZID=America/Los_Angeles:20260422T090205
SUMMARY:Mitos e Lendas - Indianos
LOCATION:
DESCRIPTION:No segundo evento do ciclo ~ MITOS & LENDAS ~, viajámos até à Índia, dando-vos a conhecer algumas das suas danças clássicas, dedicadas aos Deuses, como Rang Pooja, Angikam ou Vighnaraja e terminando com um fado “Rosa Branca”, pela dança Kathak. Deixamos um agradecimento especial à Associação Ishartes, pelo incrível espectáculo. Obrigada a todos os que vieram assistir ao evento! Apoio: Super Bock. Fotografia: Teresa Lopes da Silva | Caracterização: Filipa Pesca. Entrada livre ____ In the second event of the cycle ~ MYTHS & LEGENDS ~, we traveled to India, showing you some of its classic dances, dedicated to the Gods, such as Rang Pooja, Angikam or Vighnaraja and ending with a fado “White Rose”, for the dance Kathak. We leave a special thanks to Associação Ishartes, for the incredible show. Thank you to everyone who came to attend the event! Support: Super Bock. Photography: Teresa Lopes da Silva | Characterization: Filipa Pesca. Free entry ___ Fotos https://www.facebook.com/
URL:https://pensaoamor.com/eventador/mitos-e-lendas-indianos/
END:VEVENT
END:VCALENDAR
