BEGIN:VCALENDAR
VERSION:2.0
PRODID:Imitheme.com 
BEGIN:VEVENT
UID:20260420T015025481356247
DTSTAMP;TZID=UTC:2026-04-20 01:50:25
DTSTART;TZID=America/Los_Angeles:20260420T015025
DTEND;TZID=America/Los_Angeles:20260420T015025
SUMMARY:No-Bise
LOCATION:
DESCRIPTION:No-bise é um colectivo de músicos, cantores e rappers baseado em Lisboa, com diferentes origens (França, Angola, Brasil, Zimbábue, Portugal), que partilham de influências Neosoul, jazzhihop e afro beat. 22:00h - Entrada Livre _____ No-bise is a collective of musicians, singers and rappers based in Lisbon, with different origins (France, Angola, Brazil, Zimbabwe, Portugal), who share influences from Neosoul, jazzhihop and afro beat. 10pm - Free Entry
URL:https://pensaoamor.com/eventador/no-bise/
END:VEVENT
END:VCALENDAR
