BEGIN:VCALENDAR
VERSION:2.0
PRODID:Imitheme.com 
BEGIN:VEVENT
UID:20260420T0153081411068392
DTSTAMP;TZID=UTC:2026-04-20 01:53:08
DTSTART;TZID=America/Los_Angeles:20260420T015308
DTEND;TZID=America/Los_Angeles:20260420T015308
SUMMARY:Tania Giovo
LOCATION:
DESCRIPTION:Tania Giovo, artista de burlesco, bailarina e acrobata italiana, mistura técnicas de dança clássica, ballet, com dança contemporânea, criando performances únicas e originais. De palhaça a ninfa, Tania gosta de explorar, nas suas performances, os limites do movimento, dos géneros e da sexualidade. 22h30 - Entrada livre _______ Tania Giovo is an Italian born performance artist, dancer and aerial acrobat based in Berlin. She mixes her classically trained techniques with contemporary movement to create her unique performances. She can go from clown creature to ethereal nymph and can adapt to any audience with her plethora of characters that are inspired by all the people and places she’s experienced in her life. She loves to push the boundaries of movement, gender roles, sexuality in all her performances. 10.30pm - Free entry
URL:https://pensaoamor.com/eventador/tania-giovo/
END:VEVENT
END:VCALENDAR
