BEGIN:VCALENDAR
VERSION:2.0
PRODID:Imitheme.com 
BEGIN:VEVENT
UID:20260420T015025510419054
DTSTAMP;TZID=UTC:2026-04-20 01:50:25
DTSTART;TZID=America/Los_Angeles:20260420T015025
DTEND;TZID=America/Los_Angeles:20260420T015025
SUMMARY:Inga Salomé
LOCATION:
DESCRIPTION:Inga Salomé, uma artista de burlesco, vinda directamente de Berlim, explora a ambiguidade da feminilidade na sociedade patriarcal, numa estética inspirada nos filmes de série B e na iconografia bíblica. Em palco, celebra os prazeres do corpo alternando entre a sedução pecaminosa e a provocação lúdica! Venha descobrir o que se encontra debaixo dos seus véus. 22h30 - Entrada livre ____ The berlin-based burlesque artist Inga Salomé explores the ambiguity of femininity in a patriarchal society. On stage she finds a space where she can celebrate her body for what it gives her: pleasure. Inspired by both the glamor of technicolor B movie divas and biblical iconography, her performances range from sinful seduction to playful teasing. However, what lies beneath her veils will not only make you lose your head, but also your heart. 10.30pm - Free entry
URL:https://pensaoamor.com/eventador/inga-salome/
END:VEVENT
END:VCALENDAR
