BEGIN:VCALENDAR
VERSION:2.0
PRODID:Imitheme.com 
BEGIN:VEVENT
UID:20260420T0339341566794955
DTSTAMP;TZID=UTC:2026-04-20 03:39:34
DTSTART;TZID=America/Los_Angeles:20260420T033934
DTEND;TZID=America/Los_Angeles:20260420T033934
SUMMARY:Flapi
LOCATION:
DESCRIPTION:Lançamento do álbum “Sound of Sense”, pela banda Flapi. Temas criados a partir de elementos de diversas origens e tradições, harmónica e rítmica do Jazz, Rock e Groove. 22:00h - Entrada Livre ____ “Sound of Sense” album release by the band Flapi. Themes created from elements of different origins and traditions, harmonic and rhythmic, from Jazz, Rock and Groove. 10pm - Free Entry
URL:https://pensaoamor.com/eventador/flapi/
END:VEVENT
END:VCALENDAR
