BEGIN:VCALENDAR
VERSION:2.0
PRODID:Imitheme.com 
BEGIN:VEVENT
UID:20260420T0151171779157283
DTSTAMP;TZID=UTC:2026-04-20 01:51:17
DTSTART;TZID=America/Los_Angeles:20260420T015117
DTEND;TZID=America/Los_Angeles:20260420T015117
SUMMARY:Mitos e Lendas - Maias
LOCATION:
DESCRIPTION:No último evento do ciclo \"Mitos & Lendas\", iremos penetrar as densas selvas das Américas, em busca da civilização Maia! Dos astros, às pirâmides, aos animais sagrados... entre música, dança e rituais, a noite será deste povo antigo e exótico e dos seus segredos. Entrada livre - 22.00 _____ In the last event of the \"Myths & Legends\" cycle, we will penetrate the dense jungles of the Americas, in search of the Mayan civilization! From the stars, to the pyramids, to the sacred animals... between music, dance and rituals, the night will be about this ancient and exotic people and their secrets. Free entrance - 10pm
URL:https://pensaoamor.com/eventador/mitos-e-lendas-maias/
END:VEVENT
END:VCALENDAR
