BEGIN:VCALENDAR
VERSION:2.0
PRODID:Imitheme.com 
BEGIN:VEVENT
UID:20260420T0334281754151749
DTSTAMP;TZID=UTC:2026-04-20 03:34:28
DTSTART;TZID=America/Los_Angeles:20260420T033428
DTEND;TZID=America/Los_Angeles:20260420T033428
SUMMARY:Le Grand Chien Blanc
LOCATION:
DESCRIPTION:\"Un peu d\'amour papier velours et d\'esthétique papier musique\", diz a letra de Serge Gainsbourg... Le Grand Chien Blanc, trio de Chanson Française, volta à Pensão Amor, no dia 6 de Junho! André David (guitarra), Dinis Oliveira (acordeão) e Justine Joséphine (voz) revisitam clássicos, e não só, do repertório francês, de Edith Piaf a Jeanne Moreau, passando por Brel, Brassens, Greco e mais surpresas. Entrada livre ____ \"Un peu d\'amour papier velours et d\'esthétique papier musique\", says the lyrics of Serge Gainsbourg... Le Grand Chien Blanc, trio of Chanson Française, returns to Pensão Amor, on the 6th of June! André David (guitar) Dinis Oliveira (accordion) and Justine Joséphine (vocals) revisit classics, and more, from the French repertoire, from Edith Piaf to Jeanne Moreau, passing through Brel, Brassens, Greco and more surprises. Free entry
URL:https://pensaoamor.com/eventador/le-grand-chien-blanc/
END:VEVENT
END:VCALENDAR
