BEGIN:VCALENDAR
VERSION:2.0
PRODID:Imitheme.com 
BEGIN:VEVENT
UID:20260420T0152381174320693
DTSTAMP;TZID=UTC:2026-04-20 01:52:38
DTSTART;TZID=America/Los_Angeles:20260420T015238
DTEND;TZID=America/Los_Angeles:20260420T015238
SUMMARY:Mitos e Lendas - Romanos
LOCATION:
DESCRIPTION:No quarto evento do ciclo ~ MITOS & LENDAS ~, dedicado à antiga Roma, apostámos num espectáculo mais teatral, emotivo, com danças, paixões, lutas e até matámos o Imperador, pela mão de uma bacante. Uma vez mais, um grande obrigada a todos os que assistiram e participaram no evento!  ✺ Fotografia: Teresa Lopes da Silva ✺ Caracterização: Filipa Pesca. ✺ Agradecimentos muito especiais: Octávio / Raquel Correia / Cris Aysel / Abdul / Celso Jump / Tiago da Cruz / Sid Martins / Luís Mestre. ✺ Apoio: SuperBock. Entrada livre ____ In the fourth event of the cycle ~ MYTHS & LEGENDS ~, dedicated to ancient Rome, we bet on a more theatrical, emotional show, with dances, passions, fights and even killing the Emperor, by the hand of a bacchante. Once again, a big thank you to everyone who attended and participated in the event! ✺ Photography: Teresa Lopes da Silva ✺ Characterization: Filipa Pesca. ✺ Very special thanks: Octávio / Raquel Correia / Cris Aysel / Abdul / Celso Jump / Tiago da Cruz / Sid Martins / Luís Mestre. ✺ Support: SuperBock. Free entry  ___   Fotos  https://www.facebook.com/  
URL:https://pensaoamor.com/eventador/mitos-e-lendas-2/
END:VEVENT
END:VCALENDAR
