BEGIN:VCALENDAR
VERSION:2.0
PRODID:Imitheme.com 
BEGIN:VEVENT
UID:20260422T102104307942945
DTSTAMP;TZID=UTC:2026-04-22 10:21:04
DTSTART;TZID=America/Los_Angeles:20260422T102104
DTEND;TZID=America/Los_Angeles:20260422T102104
SUMMARY:Zombie Night
LOCATION:
DESCRIPTION:
URL:https://pensaoamor.com/eventador/zombie-night/
END:VEVENT
END:VCALENDAR
