BEGIN:VCALENDAR
VERSION:2.0
PRODID:Imitheme.com 
BEGIN:VEVENT
UID:20260422T10420344949962
DTSTAMP;TZID=UTC:2026-04-22 10:42:03
DTSTART;TZID=America/Los_Angeles:20260422T104203
DTEND;TZID=America/Los_Angeles:20260422T104203
SUMMARY:Voix de Ville Cabaret Burlesque Show
LOCATION:
DESCRIPTION:Espectáculo musical de variedades e de encontro entre o burlesco e o cabaret, sexy e provocador, repleto de purpurinas, plumas e muito glamour.22:00h - Entrada Livre ____ A musical variety show that combines burlesque and cabaret, sexy and provocative, full of glitter, feathers and lots of glamour.10 pm - Free entry
URL:https://pensaoamor.com/eventador/voix-de-ville-cabaret-burlesque/
END:VEVENT
END:VCALENDAR
