BEGIN:VCALENDAR
VERSION:2.0
PRODID:Imitheme.com 
BEGIN:VEVENT
UID:20260420T0149361166807119
DTSTAMP;TZID=UTC:2026-04-20 01:49:36
DTSTART;TZID=America/Los_Angeles:20260420T014936
DTEND;TZID=America/Los_Angeles:20260420T014936
SUMMARY:Miss Manouche
LOCATION:
DESCRIPTION:O ritmo louco do swing dos anos 20/30, a paixão fogosa do jazz manouche e a incontornável figura de Django Reinhardt são o cartão de visita do quarteto Miss Manouche. Os êxitos vocais radiofónicos desta época constituem, assim, o repertório de Miss Manouche, repleto de ritmos “quentes” e dançáveis, aos quais é impossível ficar indiferente. 22:00h - Entrada Livre _____ The crazy swing rhythm of the 20s and 30s and the fiery passion of Jazz Manouche and the unavoidable figure of Django Reinhardt are the baselines of the Miss Manouche quartet. The radio vocal hits of this period thus constitute Miss Manouche\'s repertoire, filled with classy and danceable rhythms to which it is impossible to remain indifferent. 10pm - Free Entry
URL:https://pensaoamor.com/eventador/miss-manouche-2/
END:VEVENT
END:VCALENDAR
