BEGIN:VCALENDAR
VERSION:2.0
PRODID:Imitheme.com 
BEGIN:VEVENT
UID:20260422T101924440607078
DTSTAMP;TZID=UTC:2026-04-22 10:19:24
DTSTART;TZID=America/Los_Angeles:20260422T101924
DTEND;TZID=America/Los_Angeles:20260422T101924
SUMMARY:Nihuju Trio
LOCATION:
DESCRIPTION:Nihuju Trio é composto pela saxofonista Eunice Barbosa, o guitarrista Hugo Portugal e a contrabaixista Juliana Mendonça.  Com a vontade de fazer música juntos e celebrar o jazz da melhor forma, criaram este trio, onde apresentam repertório que se baseia em standards do cancioneiro americano e, por vezes, trabalhando alguns álbuns específicos dos seus heróis do jazz.    22:00h - Entrada Livre _____ Nihuju Trio is composed by the saxophonist Eunice Barbosa, the guitarist Hugo Portugal and the double bassist Juliana Mendonça. With the desire to make music together and celebrate jazz in the best way, they created this trio, where they present a repertoire based on standards from the American songbook and, sometimes, working on specific albums by their jazz heroes.10 pm - Free entry
URL:https://pensaoamor.com/eventador/nihuju-trio/
END:VEVENT
END:VCALENDAR
